BEGIN:VCALENDAR
VERSION:2.0
PRODID:-//Utica Township Fire Protection District  - ECPv6.15.20//NONSGML v1.0//EN
CALSCALE:GREGORIAN
METHOD:PUBLISH
X-WR-CALNAME:Utica Township Fire Protection District 
X-ORIGINAL-URL:https://www.utfpd.com
X-WR-CALDESC:Events for Utica Township Fire Protection District 
REFRESH-INTERVAL;VALUE=DURATION:PT1H
X-Robots-Tag:noindex
X-PUBLISHED-TTL:PT1H
BEGIN:VTIMEZONE
TZID:UTC
BEGIN:STANDARD
TZOFFSETFROM:+0000
TZOFFSETTO:+0000
TZNAME:UTC
DTSTART:20250101T000000
END:STANDARD
END:VTIMEZONE
BEGIN:VEVENT
DTSTART;TZID=UTC:20260311T183000
DTEND;TZID=UTC:20260311T213000
DTSTAMP:20260420T123131
CREATED:20260309T205006Z
LAST-MODIFIED:20260309T205220Z
UID:211-1773253800-1773264600@www.utfpd.com
SUMMARY:March Board Meeting
DESCRIPTION:Utica Township Fire Protection District Board Meeting\nWednesday\, March 11\, 2026\n6:30 PM – 9:30 PM (EST) \nView Virtually: Utica Township Fire Protection District Board Meeting | Microsoft Teams | Meetup-Join
URL:https://www.utfpd.com/event/march-board-meeting/
LOCATION:Utica Fire & Rescue\, 5820 Utica Pike\, Utica\, IN\, 47130\, United States
END:VEVENT
END:VCALENDAR